BEGIN:VCALENDAR
VERSION:2.0
CALSCALE:GREGORIAN
PRODID:-//Diputació de Barcelona//DibaCMS//EN
BEGIN:VEVENT
UID:4877
DTSTAMP:20260424T003055
DTSTART:20120316T000000
DTEND:20130316T000000
SUMMARY:El FS Unión Llagostense es desplaça a la pista del Futsal Plata de Gràcia
LOCATION:
METHOD:PUBLISH
X-WR-CALNAME:llagosta@llagosta.cat
X-WR-TIMEZONE:Europe/Madrid
DESCRIPTION:El Fútbol Sala Unión Llagostense jugarà aquesta jornada a la pista del Futsal Plata de Gràcia, després de descansar el cap de setmana passat. Els de la nostra localitat ocupen la cinquena posició amb 37 punts, a deu del quart classificat, mentre que el Futsal Plata de Gràcia és novè amb 21 punts. 
URI:https://www.llagosta.cat/actualitat/noticies/el-fs-union-llagostense-es-desplaca-a-la-pista-del-futsal-plata-de-gracia.html
CLASS:PUBLIC
END:VEVENT
END:VCALENDAR
