BEGIN:VCALENDAR
VERSION:2.0
CALSCALE:GREGORIAN
PRODID:-//Diputació de Barcelona//DibaCMS//EN
BEGIN:VEVENT
UID:4876
DTSTAMP:20260424T091519
DTSTART:20120316T000000
DTEND:20130316T000000
SUMMARY:El primer equip de la Concòrdia rep el Martorelles amb la moral molt alta 
LOCATION:
METHOD:PUBLISH
X-WR-CALNAME:llagosta@llagosta.cat
X-WR-TIMEZONE:Europe/Madrid
DESCRIPTION:El primer equip del Club Deportivo La Concòrdia rebrà aquest dissabte la visita del Martorelles després de guanyar la jornada passada a la pista del Santpedor, un rival directe en la lluita pel títol, per 0 a 1. L'únic gol del partit el va fer Estefa al minut 2.
URI:https://www.llagosta.cat/actualitat/noticies/el-primer-equip-de-la-concordia-rep-el-martorelles-amb-la-moral-molt-alta-.html
CLASS:PUBLIC
END:VEVENT
END:VCALENDAR
