BEGIN:VCALENDAR
VERSION:2.0
CALSCALE:GREGORIAN
PRODID:-//Diputació de Barcelona//DibaCMS//EN
BEGIN:VEVENT
UID:4875
DTSTAMP:20260424T035137
DTSTART:20120315T000000
DTEND:20130315T000000
SUMMARY:L'atur va augmentar en 21 persones al mes de febrer a la nostra localitat
LOCATION:
METHOD:PUBLISH
X-WR-CALNAME:llagosta@llagosta.cat
X-WR-TIMEZONE:Europe/Madrid
DESCRIPTION:Al mes de febrer, l'atur va continuar incrementant-se a la Llagosta. El mes passat, l'Oficina de Treball de la Generalitat va registrar 21 persones més veïnes de la nostra localitat. Això suposa que a 29 de febrer hi havia 1.475 llagostencs sense feina.
URI:https://www.llagosta.cat/actualitat/noticies/latur-va-augmentar-en-21-persones-al-mes-de-febrer-a-la-nostra-localitat.html
CLASS:PUBLIC
END:VEVENT
END:VCALENDAR
