BEGIN:VCALENDAR
VERSION:2.0
CALSCALE:GREGORIAN
PRODID:-//Diputació de Barcelona//DibaCMS//EN
BEGIN:VEVENT
UID:4874
DTSTAMP:20260424T055624
DTSTART:20120315T000000
DTEND:20130315T000000
SUMMARY:El període de presentació d'obres al Concurs de punts de llibre de la Biblioteca acaba demà
LOCATION:
METHOD:PUBLISH
X-WR-CALNAME:llagosta@llagosta.cat
X-WR-TIMEZONE:Europe/Madrid
DESCRIPTION:Demà, finalitza el termini de presentació de punts de llibre al concurs convocat per la Biblioteca de la Llagosta amb motiu de la festa de Sant Jordi. Tots els infants i joves de la nostra localitat poden participar en aquest certamen artístic.
URI:https://www.llagosta.cat/actualitat/noticies/el-periode-de-presentacio-dobres-al-concurs-de-punts-de-llibre-de-la-biblioteca-acaba-dema.html
CLASS:PUBLIC
END:VEVENT
END:VCALENDAR
