BEGIN:VCALENDAR
VERSION:2.0
CALSCALE:GREGORIAN
PRODID:-//Diputació de Barcelona//DibaCMS//EN
BEGIN:VEVENT
UID:4873
DTSTAMP:20260423T170049
DTSTART:20120315T000000
DTEND:20130315T000000
SUMMARY:Bons resultats del Gimnàs La Llagosta a la Copa Catalunya de judo de categoria sub-15
LOCATION:
METHOD:PUBLISH
X-WR-CALNAME:llagosta@llagosta.cat
X-WR-TIMEZONE:Europe/Madrid
DESCRIPTION:El Gimnàs La Llagosta va aconseguir un primer lloc i una segona posició en la Copa Catalana sub-15 i sub-17 de judo disputada el cap de setmana passat. En concret, aquests bons resultats van arribar en la categoria sub-15. Sergi López va obtenir un primer lloc, mentre que Jazmín Arjona va ser segona. López, que és de primer any, ja havia estat tercer al Torneig de l'Hospitalet. 
URI:https://www.llagosta.cat/actualitat/noticies/bons-resultats-del-gimnas-la-llagosta-a-la-copa-catalunya-de-judo-de-categoria-sub-15.html
CLASS:PUBLIC
END:VEVENT
END:VCALENDAR
