BEGIN:VCALENDAR
VERSION:2.0
CALSCALE:GREGORIAN
PRODID:-//Diputació de Barcelona//DibaCMS//EN
BEGIN:VEVENT
UID:4872
DTSTAMP:20260424T015428
DTSTART:20120315T000000
DTEND:20130315T000000
SUMMARY:El PSC organitza demà un debat per conèixer quins són els temes que preocupen als veïns
LOCATION:
METHOD:PUBLISH
X-WR-CALNAME:llagosta@llagosta.cat
X-WR-TIMEZONE:Europe/Madrid
DESCRIPTION:L'Agrupació del Partit dels Socialistes de la Llagosta organitzarà demà un debat amb el títol de La Llagosta: realitats emergents i accions de futur. L'acte, que està obert a tota la ciutadania, tindrà lloc a partir de les set de la tarda a la sala petita del Centre Cultural.
URI:https://www.llagosta.cat/actualitat/noticies/el-psc-organitza-dema-un-debat-per-coneixer-quins-son-els-temes-que-preocupen-als-veins.html
CLASS:PUBLIC
END:VEVENT
END:VCALENDAR
