BEGIN:VCALENDAR
VERSION:2.0
CALSCALE:GREGORIAN
PRODID:-//Diputació de Barcelona//DibaCMS//EN
BEGIN:VEVENT
UID:4871
DTSTAMP:20260423T220327
DTSTART:20120314T000000
DTEND:20130313T000000
SUMMARY:El conjunt sènior masculí A de l'EBC La Llagosta perd a la pista del Parets (69-54)
LOCATION:
METHOD:PUBLISH
X-WR-CALNAME:llagosta@llagosta.cat
X-WR-TIMEZONE:Europe/Madrid
DESCRIPTION:El sènior masculí A de l'Esportiu Bàsquet Club de la Llagosta va tornar a perdre la jornada passada. Els de la nostra localitat van caure per 69 a 54 a la pista del Parets. El proper cap de setmana rebran la visita del líder, el Club Natació Caldes.
URI:https://www.llagosta.cat/actualitat/noticies/el-conjunt-senior-masculi-a-de-lebc-la-llagosta-perd-a-la-pista-del-parets-69-54.html
CLASS:PUBLIC
END:VEVENT
END:VCALENDAR
