BEGIN:VCALENDAR
VERSION:2.0
CALSCALE:GREGORIAN
PRODID:-//Diputació de Barcelona//DibaCMS//EN
BEGIN:VEVENT
UID:4870
DTSTAMP:20260424T013752
DTSTART:20120314T000000
DTEND:20130314T000000
SUMMARY:Tancada la inscripció per a la Cursa Popular Els 10 de la Llagosta
LOCATION:
METHOD:PUBLISH
X-WR-CALNAME:llagosta@llagosta.cat
X-WR-TIMEZONE:Europe/Madrid
DESCRIPTION:Les inscripcions per a la Cursa Popular Els 10 de la Llagosta ja estan tancades. Avui s'ha arribat a la xifra màxima de 1.000 inscrits a la competició organitzada pel Club Esportiu Fondistes de la Llagosta amb la col·laboració de l'Ajuntament de la nostra localitat.
URI:https://www.llagosta.cat/actualitat/noticies/tancada-la-inscripcio-per-a-la-cursa-popular-els-10-de-la-llagosta.html
CLASS:PUBLIC
END:VEVENT
END:VCALENDAR
