BEGIN:VCALENDAR
VERSION:2.0
CALSCALE:GREGORIAN
PRODID:-//Diputació de Barcelona//DibaCMS//EN
BEGIN:VEVENT
UID:4869
DTSTAMP:20260424T033735
DTSTART:20120314T000000
DTEND:20130314T000000
SUMMARY:Ajuntament i Generalitat inicien els tràmits per modificar l'ARE de les Planes 2
LOCATION:
METHOD:PUBLISH
X-WR-CALNAME:llagosta@llagosta.cat
X-WR-TIMEZONE:Europe/Madrid
DESCRIPTION:L'alcalde de la Llagosta, Alberto López, i el regidor de Territori, Jordi Alonso, es van reunir dilluns amb el director general d'Urbanisme de la Generalitat de Catalunya, Agustí Serra, per avançar en el procés de modificació de l'Àrea Residencial Estratègica (ARE) de les Planes 2. Aquesta va ser la segona trobada entre ambdues institucions i va servir per iniciar els tràmits que permetran modificar l'ARE de les Planes 2.
URI:https://www.llagosta.cat/actualitat/noticies/ajuntament-i-generalitat-inicien-els-tramits-per-modificar-lare-de-les-planes-2.html
CLASS:PUBLIC
END:VEVENT
END:VCALENDAR
