BEGIN:VCALENDAR
VERSION:2.0
CALSCALE:GREGORIAN
PRODID:-//Diputació de Barcelona//DibaCMS//EN
BEGIN:VEVENT
UID:4868
DTSTAMP:20260421T160109
DTSTART:20120313T000000
DTEND:20130313T000000
SUMMARY:Un total de 170 dones van participar divendres en la Nit de les Dones al Centre Cultural
LOCATION:
METHOD:PUBLISH
X-WR-CALNAME:llagosta@llagosta.cat
X-WR-TIMEZONE:Europe/Madrid
DESCRIPTION:El Centre Cultural va acollir divendres la celebració de la Nit de les Dones, una activitat que s'emmarca en la programació del Dia Internacional de les Dones, preparada per l'Ajuntament i diverses entitats. Un total de 170 dones van assistir a aquest acte. Durant la vetllada, hi va haver diverses actuacions i un ball final.
Veure vídeo.
URI:https://www.llagosta.cat/actualitat/noticies/un-total-de-170-dones-van-participar-divendres-en-la-nit-de-les-dones-al-centre-cultural.html
CLASS:PUBLIC
END:VEVENT
END:VCALENDAR
