BEGIN:VCALENDAR
VERSION:2.0
CALSCALE:GREGORIAN
PRODID:-//Diputació de Barcelona//DibaCMS//EN
BEGIN:VEVENT
UID:4867
DTSTAMP:20260421T222404
DTSTART:20120313T000000
DTEND:20130313T000000
SUMMARY:El sènior del Vallag inicia la fase d'ascens amb una victòria sobre el Vic (22-18)
LOCATION:
METHOD:PUBLISH
X-WR-CALNAME:llagosta@llagosta.cat
X-WR-TIMEZONE:Europe/Madrid
DESCRIPTION:L'Handbol Club Vallag ha començat la fase d'ascens a Segona Catalana amb una victòria. Els de la nostra localitat van superar el cap de setmana passat el Vic per 22 a 18, mantenint-se així al capdavant de la classificació.
URI:https://www.llagosta.cat/actualitat/noticies/el-senior-del-vallag-inicia-la-fase-dascens-amb-una-victoria-sobre-el-vic-22-18.html
CLASS:PUBLIC
END:VEVENT
END:VCALENDAR
