BEGIN:VCALENDAR
VERSION:2.0
CALSCALE:GREGORIAN
PRODID:-//Diputació de Barcelona//DibaCMS//EN
BEGIN:VEVENT
UID:4866
DTSTAMP:20260421T190808
DTSTART:20120313T000000
DTEND:20130313T000000
SUMMARY:Carmen Rodríguez, nova presidenta de l'Associació de paradistes del Mercat Municipal
LOCATION:
METHOD:PUBLISH
X-WR-CALNAME:llagosta@llagosta.cat
X-WR-TIMEZONE:Europe/Madrid
DESCRIPTION:L'Associació de paradistes del Mercat Municipal ha escollit la seva nova junta directiva per al proper any. La nova presidenta és Carmen Rodríguez, que des de fa un temps ja exercia aquest càrrec en funcions després de la dimissió de l'anterior president, Pablo Rossi, per motius personals.
URI:https://www.llagosta.cat/actualitat/noticies/carmen-rodriguez-nova-presidenta-de-lassociacio-de-paradistes-del-mercat-municipal.html
CLASS:PUBLIC
END:VEVENT
END:VCALENDAR
