BEGIN:VCALENDAR
VERSION:2.0
CALSCALE:GREGORIAN
PRODID:-//Diputació de Barcelona//DibaCMS//EN
BEGIN:VEVENT
UID:4865
DTSTAMP:20260423T000725
DTSTART:20120313T000000
DTEND:20130313T000000
SUMMARY:Detingut un veí de la Llagosta com a presumpte atracador d'un supermercat
LOCATION:
METHOD:PUBLISH
X-WR-CALNAME:llagosta@llagosta.cat
X-WR-TIMEZONE:Europe/Madrid
DESCRIPTION:La Policia Local de la Llagosta va detenir divendres un individu després que presumptament hagués atracat un supermercat de la plaça de la Concòrdia. Els fets van passar cap a un quart de nou del vespre, quan els agents que hi havia a la prefectura de la Policia Local van veure un home amb un passamuntanyes que fugia corrent pel passeig del Pintor Sert.
URI:https://www.llagosta.cat/actualitat/noticies/detingut-un-vei-de-la-llagosta-com-a-presumpte-atracador-dun-supermercat.html
CLASS:PUBLIC
END:VEVENT
END:VCALENDAR
