BEGIN:VCALENDAR
VERSION:2.0
CALSCALE:GREGORIAN
PRODID:-//Diputació de Barcelona//DibaCMS//EN
BEGIN:VEVENT
UID:4864
DTSTAMP:20260423T003047
DTSTART:20120313T000000
DTEND:20130313T000000
SUMMARY:El FS Unión Llagostense torna a la competició després del descans de la jornada passada
LOCATION:
METHOD:PUBLISH
X-WR-CALNAME:llagosta@llagosta.cat
X-WR-TIMEZONE:Europe/Madrid
DESCRIPTION:El Fútbol Sala Unión Llagostense es desplaçarà la propera jornada a la pista del Futsal Plata de Gràcia, després de descansar el cap de setmana passat per la retirada del seu rival, el Collbató. Els de la nostra localitat ocupen la cinquena posició amb 37 punts, a deu del quart classificat. 
URI:https://www.llagosta.cat/actualitat/noticies/el-fs-union-llagostense-torna-a-la-competicio-despres-del-descans-de-la-jornada-passada.html
CLASS:PUBLIC
END:VEVENT
END:VCALENDAR
