BEGIN:VCALENDAR
VERSION:2.0
CALSCALE:GREGORIAN
PRODID:-//Diputació de Barcelona//DibaCMS//EN
BEGIN:VEVENT
UID:4863
DTSTAMP:20260422T033452
DTSTART:20120312T000000
DTEND:20130312T000000
SUMMARY:Molt de públic, a la celebració ahir del Dia d'Andalusia a la nostra localitat
LOCATION:
METHOD:PUBLISH
X-WR-CALNAME:llagosta@llagosta.cat
X-WR-TIMEZONE:Europe/Madrid
DESCRIPTION:La Casa de Andalucía de la Llagosta va celebrar ahir el Dia d'Andalusia. El Centre Cultural es va omplir de públic per veure les activitats preparades per l'entitat. La celebració va començar amb la tradicional hissada de banderes davant de l'edifici de l'Ajuntament. 
URI:https://www.llagosta.cat/actualitat/noticies/molt-de-public-a-la-celebracio-ahir-del-dia-dandalusia-a-la-nostra-localitat.html
CLASS:PUBLIC
END:VEVENT
END:VCALENDAR
