BEGIN:VCALENDAR
VERSION:2.0
CALSCALE:GREGORIAN
PRODID:-//Diputació de Barcelona//DibaCMS//EN
BEGIN:VEVENT
UID:4862
DTSTAMP:20260422T143838
DTSTART:20120312T000000
DTEND:20130312T000000
SUMMARY:10 anys d'activitats per a adults i per a escoles a la Biblioteca Municipal de la Llagosta
LOCATION:
METHOD:PUBLISH
X-WR-CALNAME:llagosta@llagosta.cat
X-WR-TIMEZONE:Europe/Madrid
DESCRIPTION:La Biblioteca Municipal de la Llagosta celebra aquest any el desè aniversari de les activitats per a adults i per a escoles. Al llarg d'aquest temps, milers d'alumnes de la nostra localitat han passat per les sessions informatives que es fan els divendres al matí. A més, durant el curs s'organitzen, els dimecres, una gran varietat d'activitats per a persones adultes.
URI:https://www.llagosta.cat/actualitat/noticies/10-anys-dactivitats-per-a-adults-i-per-a-escoles-a-la-biblioteca-municipal-de-la-llagosta.html
CLASS:PUBLIC
END:VEVENT
END:VCALENDAR
