BEGIN:VCALENDAR
VERSION:2.0
CALSCALE:GREGORIAN
PRODID:-//Diputació de Barcelona//DibaCMS//EN
BEGIN:VEVENT
UID:4861
DTSTAMP:20260422T015727
DTSTART:20120312T000000
DTEND:20130312T000000
SUMMARY:Estela García, campiona d'Espanya per equips infantil de natació sincronitzada
LOCATION:
METHOD:PUBLISH
X-WR-CALNAME:llagosta@llagosta.cat
X-WR-TIMEZONE:Europe/Madrid
DESCRIPTION:La veïna de la Llagosta Estela García es va proclamar dissabte campiona d'Espanya infantil d'hivern de natació sincronitzada per equips en la modalitat de combos amb el Club Natació Granollers. La competició, que es va celebrar a les piscines Sant Jordi de Barcelona, va comptar amb la participació de 22 clubs amb un total de 180 nedadores. El Club Natació Granollers va aconseguir la medalla d'or amb una diferència de gairebé quatre punts sobre el segon classificat. 
URI:https://www.llagosta.cat/actualitat/noticies/estela-garcia-campiona-despanya-per-equips-infantil-de-natacio-sincronitzada.html
CLASS:PUBLIC
END:VEVENT
END:VCALENDAR
