BEGIN:VCALENDAR
VERSION:2.0
CALSCALE:GREGORIAN
PRODID:-//Diputació de Barcelona//DibaCMS//EN
BEGIN:VEVENT
UID:4860
DTSTAMP:20260422T060130
DTSTART:20120312T000000
DTEND:20130312T000000
SUMMARY:El Club Deportivo Viejas Glorias suma davant del Terrassa (2-2) el tercer empat seguit
LOCATION:
METHOD:PUBLISH
X-WR-CALNAME:llagosta@llagosta.cat
X-WR-TIMEZONE:Europe/Madrid
DESCRIPTION:El Club Deportivo Viejas Glorias va empatar dissabte a dos gols a casa contra el Terrassa. És el tercer empat seguit que suma el conjunt llagostenc. El Viejas Glorias va fer un bon partit dissabte, però el triomf se li va escapar en el darrer instant, quan va encaixar el segon gol. 
URI:https://www.llagosta.cat/actualitat/noticies/el-club-deportivo-viejas-glorias-suma-davant-del-terrassa-2-2-el-tercer-empat-seguit.html
CLASS:PUBLIC
END:VEVENT
END:VCALENDAR
