BEGIN:VCALENDAR
VERSION:2.0
CALSCALE:GREGORIAN
PRODID:-//Diputació de Barcelona//DibaCMS//EN
BEGIN:VEVENT
UID:4859
DTSTAMP:20260422T020015
DTSTART:20120309T000000
DTEND:20130309T000000
SUMMARY:El sènior del Vallag inicia demà la fase d'ascens a Segona Catalana 
LOCATION:
METHOD:PUBLISH
X-WR-CALNAME:llagosta@llagosta.cat
X-WR-TIMEZONE:Europe/Madrid
DESCRIPTION:L'Handbol Club Vallag començarà la fase d'ascens a Segona Catalana aquest cap de setmana jugant a casa contra el Vic. El partit es disputarà demà, a dos quarts de set de la tarda, a la pista del Complex Esportiu Municipal El Turó.
URI:https://www.llagosta.cat/actualitat/noticies/el-senior-del-vallag-inicia-dema-la-fase-dascens-a-segona-catalana-.html
CLASS:PUBLIC
END:VEVENT
END:VCALENDAR
