BEGIN:VCALENDAR
VERSION:2.0
CALSCALE:GREGORIAN
PRODID:-//Diputació de Barcelona//DibaCMS//EN
BEGIN:VEVENT
UID:4858
DTSTAMP:20260422T144325
DTSTART:20120309T000000
DTEND:20130309T000000
SUMMARY:Unes 170 dones participaran avui a la Nit de les Dones, al Centre Cultural
LOCATION:
METHOD:PUBLISH
X-WR-CALNAME:llagosta@llagosta.cat
X-WR-TIMEZONE:Europe/Madrid
DESCRIPTION:La Nit de les Dones, que se celebra avui al Centre Cultural, comptarà amb la participació d'unes 170 dones. L'activitat s'emmarca en la programació del Dia Internacional de les Dones, preparada per l'Ajuntament i diverses entitats.
URI:https://www.llagosta.cat/actualitat/noticies/unes-170-dones-participaran-avui-a-la-nit-de-les-dones-al-centre-cultural.html
CLASS:PUBLIC
END:VEVENT
END:VCALENDAR
