BEGIN:VCALENDAR
VERSION:2.0
CALSCALE:GREGORIAN
PRODID:-//Diputació de Barcelona//DibaCMS//EN
BEGIN:VEVENT
UID:4857
DTSTAMP:20260422T043448
DTSTART:20120309T000000
DTEND:20130329T000000
SUMMARY:La Casa de Andalucía celebrarà diumenge a la Llagosta el Dia d'Andalusia
LOCATION:
METHOD:PUBLISH
X-WR-CALNAME:llagosta@llagosta.cat
X-WR-TIMEZONE:Europe/Madrid
DESCRIPTION:La Casa de Andalucía de la Llagosta organitzarà diumenge una sèrie d'activitats per celebrar el Dia d'Andalusia. A les onze del matí, es farà la hissada de banderes davant de l'edifici de l'Ajuntament i, a dos quarts d'una, començaran al Centre Cultural les actuacions de diverses entitats. 
URI:https://www.llagosta.cat/actualitat/noticies/la-casa-de-andalucia-celebrara-diumenge-a-la-llagosta-el-dia-dandalusia.html
CLASS:PUBLIC
END:VEVENT
END:VCALENDAR
