BEGIN:VCALENDAR
VERSION:2.0
CALSCALE:GREGORIAN
PRODID:-//Diputació de Barcelona//DibaCMS//EN
BEGIN:VEVENT
UID:4856
DTSTAMP:20260422T112816
DTSTART:20120309T000000
DTEND:20130309T000000
SUMMARY:El primer equip de la Concòrdia defensarà el liderat a la pista del segon, el Santpedor
LOCATION:
METHOD:PUBLISH
X-WR-CALNAME:llagosta@llagosta.cat
X-WR-TIMEZONE:Europe/Madrid
DESCRIPTION:El primer equip del Club Deportivo La Concòrdia, que és líder del grup 1 de la Primera Divisió amb 40 punts, es desplaçarà aquesta jornada a la pista del segon classificat, el Santpedor, que té 32 punts. Els dos conjunts van empatar els seus partits del cap de setmana passat. Les de la Llagosta busquen un triomf que els deixaria més a prop del títol de lliga. 
URI:https://www.llagosta.cat/actualitat/noticies/el-primer-equip-de-la-concordia-defensara-el-liderat-a-la-pista-del-segon-el-santpedor.html
CLASS:PUBLIC
END:VEVENT
END:VCALENDAR
