BEGIN:VCALENDAR
VERSION:2.0
CALSCALE:GREGORIAN
PRODID:-//Diputació de Barcelona//DibaCMS//EN
BEGIN:VEVENT
UID:4855
DTSTAMP:20260422T224006
DTSTART:20120308T000000
DTEND:20130308T000000
SUMMARY:El sènior masculí A de l'EBC perd a la pròrroga contra el Vedruna-Gràcia C (73-79)
LOCATION:
METHOD:PUBLISH
X-WR-CALNAME:llagosta@llagosta.cat
X-WR-TIMEZONE:Europe/Madrid
DESCRIPTION:El sènior masculí A de l'Esportiu Bàsquet Club de la Llagosta va caure la jornada passada per un ajustat 73 a 79 davant del Vedruna-Gràcia C. Els llagostencs van forçar la pròrroga a tres segons del final del temps reglamentari.
URI:https://www.llagosta.cat/actualitat/noticies/el-senior-masculi-a-de-lebc-perd-a-la-prorroga-contra-el-vedruna-gracia-c-73-79.html
CLASS:PUBLIC
END:VEVENT
END:VCALENDAR
