BEGIN:VCALENDAR
VERSION:2.0
CALSCALE:GREGORIAN
PRODID:-//Diputació de Barcelona//DibaCMS//EN
BEGIN:VEVENT
UID:4854
DTSTAMP:20260422T085725
DTSTART:20120308T000000
DTEND:20130308T000000
SUMMARY:La Colla gegantera de la Llagosta assistirà diumenge a la Trobada de Santa Perpètua
LOCATION:
METHOD:PUBLISH
X-WR-CALNAME:llagosta@llagosta.cat
X-WR-TIMEZONE:Europe/Madrid
DESCRIPTION:Els gegants de la Llagosta participaran diumenge a la 23a Trobada de Gegants de Santa Perpètua de Mogoda. La colla gegantera de la nostra localitat assistirà amb el Josepet, la Blanqueta i la Torradeta, a més del capgròs de la colla, Llago.
URI:https://www.llagosta.cat/actualitat/noticies/la-colla-gegantera-de-la-llagosta-assistira-diumenge-a-la-trobada-de-santa-perpetua.html
CLASS:PUBLIC
END:VEVENT
END:VCALENDAR
