BEGIN:VCALENDAR
VERSION:2.0
CALSCALE:GREGORIAN
PRODID:-//Diputació de Barcelona//DibaCMS//EN
BEGIN:VEVENT
UID:4853
DTSTAMP:20260422T134735
DTSTART:20120308T000000
DTEND:20130308T000000
SUMMARY:Juan Antonio Illescas torna a ser el president de la Casa de Andalucía de la Llagosta
LOCATION:
METHOD:PUBLISH
X-WR-CALNAME:llagosta@llagosta.cat
X-WR-TIMEZONE:Europe/Madrid
DESCRIPTION:Juan Antonio Illescas és el nou president de la Casa de Andalucía de la Llagosta en substitució de Juani Lafuente, que va dimitir fa uns dies per motius personals. Illescas ja havia exercit aquest càrrec anteriorment durant vuit anys.
URI:https://www.llagosta.cat/actualitat/noticies/juan-antonio-illescas-torna-a-ser-el-president-de-la-casa-de-andalucia-de-la-llagosta.html
CLASS:PUBLIC
END:VEVENT
END:VCALENDAR
