BEGIN:VCALENDAR
VERSION:2.0
CALSCALE:GREGORIAN
PRODID:-//Diputació de Barcelona//DibaCMS//EN
BEGIN:VEVENT
UID:4852
DTSTAMP:20260422T104913
DTSTART:20120307T000000
DTEND:20130307T000000
SUMMARY:En marxa, la campanya d'informació de la setzena edició del Voluntariat per la Llengua
LOCATION:
METHOD:PUBLISH
X-WR-CALNAME:llagosta@llagosta.cat
X-WR-TIMEZONE:Europe/Madrid
DESCRIPTION:L’Oficina de Català de la Llagosta ha posat en marxa la campanya d'informació de la setzena edició del programa Voluntariat per la Llengua. El projecte facilita la pràctica de la llengua a aquelles persones que estudien català o que volen practicar-lo però que no tenen ningú amb qui parlar-lo. 
URI:https://www.llagosta.cat/actualitat/noticies/en-marxa-la-campanya-dinformacio-de-la-setzena-edicio-del-voluntariat-per-la-llengua.html
CLASS:PUBLIC
END:VEVENT
END:VCALENDAR
