BEGIN:VCALENDAR
VERSION:2.0
CALSCALE:GREGORIAN
PRODID:-//Diputació de Barcelona//DibaCMS//EN
BEGIN:VEVENT
UID:4850
DTSTAMP:20260422T235226
DTSTART:20120307T000000
DTEND:20130307T000000
SUMMARY:El primer equip de la Concòrdia empata però manté els vuit punts sobre el segon
LOCATION:
METHOD:PUBLISH
X-WR-CALNAME:llagosta@llagosta.cat
X-WR-TIMEZONE:Europe/Madrid
DESCRIPTION:El primer equip del Club Deportivo La Concòrdia va empatar la jornada passada a dos gols contra el Cardedeu. El resultat es pot considerar tota una sorpresa, ja que les de la nostra localitat són líders destacades, mentre que el Cardedeu és el novè classificat. 
URI:https://www.llagosta.cat/actualitat/noticies/el-primer-equip-de-la-concordia-empata-pero-mante-els-vuit-punts-sobre-el-segon.html
CLASS:PUBLIC
END:VEVENT
END:VCALENDAR
