BEGIN:VCALENDAR
VERSION:2.0
CALSCALE:GREGORIAN
PRODID:-//Diputació de Barcelona//DibaCMS//EN
BEGIN:VEVENT
UID:4849
DTSTAMP:20260421T173550
DTSTART:20120307T000000
DTEND:20130307T000000
SUMMARY:Mireia Egea participa en una trobada de regidors d'Educació del Vallès Oriental
LOCATION:
METHOD:PUBLISH
X-WR-CALNAME:llagosta@llagosta.cat
X-WR-TIMEZONE:Europe/Madrid
DESCRIPTION:Una trentena de regidors responsables de l’Àrea d’Ensenyament de municipis del Vallès Oriental, entre els quals es trobava la regidora d'Educació de l'Ajuntament de la Llagosta, Mireia Egea, van participar el 29 de febrer en una reunió conjunta al Consell Comarcal en la qual es va reflexionar sobre la situació actual i el futur de les escoles bressol municipals i es van explicar els detalls del projecte dels menjadors escolars ecològics que ja s’està duent a terme a diferents escoles de la comarca.
URI:https://www.llagosta.cat/actualitat/noticies/mireia-egea-participa-en-una-trobada-de-regidors-deducacio-del-valles-oriental.html
CLASS:PUBLIC
END:VEVENT
END:VCALENDAR
