BEGIN:VCALENDAR
VERSION:2.0
CALSCALE:GREGORIAN
PRODID:-//Diputació de Barcelona//DibaCMS//EN
BEGIN:VEVENT
UID:4848
DTSTAMP:20260422T182356
DTSTART:20120306T000000
DTEND:20130306T000000
SUMMARY:Obert el procés per adjudicar quatre parades del Mercat Municipal de la Llagosta
LOCATION:
METHOD:PUBLISH
X-WR-CALNAME:llagosta@llagosta.cat
X-WR-TIMEZONE:Europe/Madrid
DESCRIPTION:L'Ajuntament de la Llagosta ha iniciat el procés d'adjudicació de quatre parades del Mercat Municipal. Les persones o empreses interessades tenen fins al 26 de març per presentar les sol·licituds amb la documentació necessària per poder optar a l'adjudicació.
URI:https://www.llagosta.cat/actualitat/noticies/obert-el-proces-per-adjudicar-quatre-parades-del-mercat-municipal-de-la-llagosta.html
CLASS:PUBLIC
END:VEVENT
END:VCALENDAR
