BEGIN:VCALENDAR
VERSION:2.0
CALSCALE:GREGORIAN
PRODID:-//Diputació de Barcelona//DibaCMS//EN
BEGIN:VEVENT
UID:4847
DTSTAMP:20260421T224156
DTSTART:20120306T000000
DTEND:20130306T000000
SUMMARY:Diversos regidors van fer ahir una visita a les obres de reforma de la plaça de la Concòrdia
LOCATION:
METHOD:PUBLISH
X-WR-CALNAME:llagosta@llagosta.cat
X-WR-TIMEZONE:Europe/Madrid
DESCRIPTION:Les obres de reforç estructural de la plaça de la Concòrdia necessitaran una actuació addicional a la segona planta. Les inspeccions realitzades per l'empresa que està realitzant l'obra van detectar que calia reforçar els pilars de tot el pàrquing.
URI:https://www.llagosta.cat/actualitat/noticies/diversos-regidors-van-fer-ahir-una-visita-a-les-obres-de-reforma-de-la-placa-de-la-concordia.html
CLASS:PUBLIC
END:VEVENT
END:VCALENDAR
