BEGIN:VCALENDAR
VERSION:2.0
CALSCALE:GREGORIAN
PRODID:-//Diputació de Barcelona//DibaCMS//EN
BEGIN:VEVENT
UID:4846
DTSTAMP:20260422T111429
DTSTART:20120306T000000
DTEND:20130306T000000
SUMMARY:Dos membres del PSC de la Llagosta, en la nova executiva comarcal del partit
LOCATION:
METHOD:PUBLISH
X-WR-CALNAME:llagosta@llagosta.cat
X-WR-TIMEZONE:Europe/Madrid
DESCRIPTION:Dos membres del Partit dels Socialistes de la Llagosta, Antonio Rísquez i Raquel Martínez, formen part de la nova executiva comarcal del PSC, sorgida del Congrés celebrat dissabte. Rísquez, que és el primer secretari del PSC de la Llagosta, ha estat escollit secretari de Formació, mentre que Martínez és secretària d'Habitatge. 
URI:https://www.llagosta.cat/actualitat/noticies/dos-membres-del-psc-de-la-llagosta-en-la-nova-executiva-comarcal-del-partit.html
CLASS:PUBLIC
END:VEVENT
END:VCALENDAR
