BEGIN:VCALENDAR
VERSION:2.0
CALSCALE:GREGORIAN
PRODID:-//Diputació de Barcelona//DibaCMS//EN
BEGIN:VEVENT
UID:4845
DTSTAMP:20260423T205503
DTSTART:20120306T000000
DTEND:20130306T000000
SUMMARY:El FS Unión Llagostense guanya amb comoditat a la pista del Teià (2-6)
LOCATION:
METHOD:PUBLISH
X-WR-CALNAME:llagosta@llagosta.cat
X-WR-TIMEZONE:Europe/Madrid
DESCRIPTION:El Fútbol Sala Unión Llagostense va derrotar el cap de setmana passat el Teià per 2 a 6. Els de José Manuel Poyato van fer un partit molt seriós i no van tenir cap problema per guanyar un equip situat a la zona baixa de la classificació. 
URI:https://www.llagosta.cat/actualitat/noticies/el-fs-union-llagostense-guanya-amb-comoditat-a-la-pista-del-teia-2-6.html
CLASS:PUBLIC
END:VEVENT
END:VCALENDAR
