BEGIN:VCALENDAR
VERSION:2.0
CALSCALE:GREGORIAN
PRODID:-//Diputació de Barcelona//DibaCMS//EN
BEGIN:VEVENT
UID:4844
DTSTAMP:20260423T041141
DTSTART:20120305T000000
DTEND:20130305T000000
SUMMARY:Gran assistència de públic al Mercat Medieval durant tot el cap de setmana
LOCATION:
METHOD:PUBLISH
X-WR-CALNAME:llagosta@llagosta.cat
X-WR-TIMEZONE:Europe/Madrid
DESCRIPTION:El Mercat medieval celebrat aquest cap de setmana a la Llagosta ha comptat amb una molt bona presència de públic. Des de divendres a la tarda fins al vespre de diumenge, el Parc Popular es va omplir de gent, que va passejar entre la seixantena de parades instal·lades i va gaudir dels espectacles.
URI:https://www.llagosta.cat/actualitat/noticies/gran-assistencia-de-public-al-mercat-medieval-durant-tot-el-cap-de-setmana.html
CLASS:PUBLIC
END:VEVENT
END:VCALENDAR
