BEGIN:VCALENDAR
VERSION:2.0
CALSCALE:GREGORIAN
PRODID:-//Diputació de Barcelona//DibaCMS//EN
BEGIN:VEVENT
UID:4843
DTSTAMP:20260422T060812
DTSTART:20120305T000000
DTEND:20130305T000000
SUMMARY:El Fòrum Jove va comptar dissabte amb 25 participants, que van tractar temes diversos
LOCATION:
METHOD:PUBLISH
X-WR-CALNAME:llagosta@llagosta.cat
X-WR-TIMEZONE:Europe/Madrid
DESCRIPTION:La preocupació sobre l'habitatge, l'oci, l'esport, la formació i l'ocupació són alguns els temes que van sorgir durant la celebració del Fòrum Jove, celebrat dissabte al Centre Cultural. Les conclusions d'aquesta trobada serviran per definir les polítiques municipals de joventut dels propers quatre anys.
URI:https://www.llagosta.cat/actualitat/noticies/el-forum-jove-va-comptar-dissabte-amb-25-participants-que-van-tractar-temes-diversos.html
CLASS:PUBLIC
END:VEVENT
END:VCALENDAR
