BEGIN:VCALENDAR
VERSION:2.0
CALSCALE:GREGORIAN
PRODID:-//Diputació de Barcelona//DibaCMS//EN
BEGIN:VEVENT
UID:4842
DTSTAMP:20260422T113601
DTSTART:20120305T000000
DTEND:20130305T000000
SUMMARY:El Viejas Glorias empata (5-5) al camp del tercer classificat, la Planada de Sabadell
LOCATION:
METHOD:PUBLISH
X-WR-CALNAME:llagosta@llagosta.cat
X-WR-TIMEZONE:Europe/Madrid
DESCRIPTION:El Club Deportivo Viejas Glorias va empatar el cap de setmana a cinc gols al camp de la Planada. El partit contra el tercer classificat va ser molt disputat. Miguel va fer aviat el 0 a 1, però la Planada li va donar la volta al marcador amb dos gols. 
URI:https://www.llagosta.cat/actualitat/noticies/el-viejas-glorias-empata-5-5-al-camp-del-tercer-classificat-la-planada-de-sabadell.html
CLASS:PUBLIC
END:VEVENT
END:VCALENDAR
