BEGIN:VCALENDAR
VERSION:2.0
CALSCALE:GREGORIAN
PRODID:-//Diputació de Barcelona//DibaCMS//EN
BEGIN:VEVENT
UID:4841
DTSTAMP:20260422T035702
DTSTART:20120305T000000
DTEND:20130305T000000
SUMMARY:Estela García, campiona de Catalunya infantil per equips en la disciplina de combos
LOCATION:
METHOD:PUBLISH
X-WR-CALNAME:llagosta@llagosta.cat
X-WR-TIMEZONE:Europe/Madrid
DESCRIPTION:L'esportista de la Llagosta Estela García es va proclamar dissabte campiona de Catalunya infantil d'hivern de natació sincronitzada per equips en la modalitat de combos amb el Club Natació Granollers. La competició, que es va celebrar a Manresa, va comptar amb la participació de deu conjunts. 
URI:https://www.llagosta.cat/actualitat/noticies/estela-garcia-campiona-de-catalunya-infantil-per-equips-en-la-disciplina-de-combos.html
CLASS:PUBLIC
END:VEVENT
END:VCALENDAR
