BEGIN:VCALENDAR
VERSION:2.0
CALSCALE:GREGORIAN
PRODID:-//Diputació de Barcelona//DibaCMS//EN
BEGIN:VEVENT
UID:4840
DTSTAMP:20260423T033633
DTSTART:20120305T000000
DTEND:20130305T000000
SUMMARY:Divendres, va cremar un terreny de matolls de la zona de les Planes 2
LOCATION:
METHOD:PUBLISH
X-WR-CALNAME:llagosta@llagosta.cat
X-WR-TIMEZONE:Europe/Madrid
DESCRIPTION:Dues dotacions dels Bombers de la Generalitat es van haver de desplaçar divendres a la tarda a la Llagosta per apagar un foc a un terreny de les Planes 2 situat entre el camp de futbol i la línia ferroviària de França. El foc va començar, per causes desconegudes, poc abans de les tres de la tarda. Els Bombers van treballar a la zona durant unes dues hores. El foc només va cremar matolls. 
URI:https://www.llagosta.cat/actualitat/noticies/divendres-va-cremar-un-terreny-de-matolls-de-la-zona-de-les-planes-2.html
CLASS:PUBLIC
END:VEVENT
END:VCALENDAR
