BEGIN:VCALENDAR
VERSION:2.0
CALSCALE:GREGORIAN
PRODID:-//Diputació de Barcelona//DibaCMS//EN
BEGIN:VEVENT
UID:4839
DTSTAMP:20260422T024954
DTSTART:20120302T000000
DTEND:20130302T000000
SUMMARY:Només una empresa opta a la millora de les cambres frigorífiques del Mercat Municipal
LOCATION:
METHOD:PUBLISH
X-WR-CALNAME:llagosta@llagosta.cat
X-WR-TIMEZONE:Europe/Madrid
DESCRIPTION:Una avaria a les cambres frigorífiques del Mercat Municipal ha provocat que l'Ajuntament hagi d'instal·lar unes cambres externes fins que no s'iniciïn les obres d'adequació i millora d'aquesta instal·lació, que es troba en procés d'adjudicació.
URI:https://www.llagosta.cat/actualitat/noticies/nomes-una-empresa-opta-a-la-millora-de-les-cambres-frigorifiques-del-mercat-municipal.html
CLASS:PUBLIC
END:VEVENT
END:VCALENDAR
