BEGIN:VCALENDAR
VERSION:2.0
CALSCALE:GREGORIAN
PRODID:-//Diputació de Barcelona//DibaCMS//EN
BEGIN:VEVENT
UID:4838
DTSTAMP:20260422T134527
DTSTART:20120302T000000
DTEND:20130302T000000
SUMMARY:El Fòrum Jove de la Llagosta tindrà lloc demà a les sis de la tarda al Centre Cultural
LOCATION:
METHOD:PUBLISH
X-WR-CALNAME:llagosta@llagosta.cat
X-WR-TIMEZONE:Europe/Madrid
DESCRIPTION:El Centre Cultural de la Llagosta acollirà demà a les sis de la tarda la celebració del Fòrum Jove. Aquest acte forma part del procés de diagnosi de nou Pla Local de Joventut que està realitzant l'Ajuntament de la nostra localitat.
URI:https://www.llagosta.cat/actualitat/noticies/el-forum-jove-de-la-llagosta-tindra-lloc-dema-a-les-sis-de-la-tarda-al-centre-cultural.html
CLASS:PUBLIC
END:VEVENT
END:VCALENDAR
