BEGIN:VCALENDAR
VERSION:2.0
CALSCALE:GREGORIAN
PRODID:-//Diputació de Barcelona//DibaCMS//EN
BEGIN:VEVENT
UID:4837
DTSTAMP:20260422T075934
DTSTART:20120302T000000
DTEND:20130302T000000
SUMMARY:El sènior del Vallag iniciarà la fase d'ascens a Segona Catalana com a líder
LOCATION:
METHOD:PUBLISH
X-WR-CALNAME:llagosta@llagosta.cat
X-WR-TIMEZONE:Europe/Madrid
DESCRIPTION:El sènior de l'Handbol Club Vallag parteix com a líder de la fase d'ascens a Segona Catalana. Els de la nostra localitat van sumar el cap de setmana passat una important victòria davant del Súria, un altre dels equips classificats per jugar la promoció.
URI:https://www.llagosta.cat/actualitat/noticies/el-senior-del-vallag-iniciara-la-fase-dascens-a-segona-catalana-com-a-lider.html
CLASS:PUBLIC
END:VEVENT
END:VCALENDAR
