BEGIN:VCALENDAR
VERSION:2.0
CALSCALE:GREGORIAN
PRODID:-//Diputació de Barcelona//DibaCMS//EN
BEGIN:VEVENT
UID:4836
DTSTAMP:20260422T060916
DTSTART:20120302T000000
DTEND:20130302T000000
SUMMARY:Avui surt al carrer el Butlletí d'Informació Municipal del mes de març
LOCATION:
METHOD:PUBLISH
X-WR-CALNAME:llagosta@llagosta.cat
X-WR-TIMEZONE:Europe/Madrid
DESCRIPTION:L'Ajuntament de la Llagosta distribueix avui el Butlletí d'Informació Municipal del mes de març. A la publicació es pot veure un recull d'imatges de la festa de Carnaval, així com un resum del ple ordinari del mes de febrer. La contraportada està dedicada a les Festes de Sant Josep.
URI:https://www.llagosta.cat/actualitat/noticies/avui-surt-al-carrer-el-butlleti-dinformacio-municipal-del-mes-de-marc.html
CLASS:PUBLIC
END:VEVENT
END:VCALENDAR
