BEGIN:VCALENDAR
VERSION:2.0
CALSCALE:GREGORIAN
PRODID:-//Diputació de Barcelona//DibaCMS//EN
BEGIN:VEVENT
UID:4835
DTSTAMP:20260422T001028
DTSTART:20120302T000000
DTEND:20130302T000000
SUMMARY:El 8è Congrés del PSC del Vallès Oriental comptarà amb deu delegats llagostencs
LOCATION:
METHOD:PUBLISH
X-WR-CALNAME:llagosta@llagosta.cat
X-WR-TIMEZONE:Europe/Madrid
DESCRIPTION:El Partit dels Socialistes de la Llagosta estarà representat al 8è Congrés del PSC del Vallès Oriental, que se celebrarà demà, per deu delegats i cinc convidats. L'única candidatura per dirigir el partit és la de l'actual primer secretari dels socialistes de la nostra comarca, Román Ruiz. 
URI:https://www.llagosta.cat/actualitat/noticies/el-8e-congres-del-psc-del-valles-oriental-comptara-amb-deu-delegats-llagostencs.html
CLASS:PUBLIC
END:VEVENT
END:VCALENDAR
