BEGIN:VCALENDAR
VERSION:2.0
CALSCALE:GREGORIAN
PRODID:-//Diputació de Barcelona//DibaCMS//EN
BEGIN:VEVENT
UID:4834
DTSTAMP:20260422T094708
DTSTART:20120302T000000
DTEND:20130302T000000
SUMMARY:El FS Unión Llagostense es desplaça aquesta jornada a la pista del Teià
LOCATION:
METHOD:PUBLISH
X-WR-CALNAME:llagosta@llagosta.cat
X-WR-TIMEZONE:Europe/Madrid
DESCRIPTION:El Fútbol Sala Unión Llagostense anirà aquest cap de setmana a la pista del Teià. Els de José Manuel Poyato vénen de guanyar el Barcelona Snowflakes per 11 a 3 i ocupen la cinquena posició amb 34 punts. Per la seva part, el Teià és antepenúltim amb 17 punts. 
URI:https://www.llagosta.cat/actualitat/noticies/el-fs-union-llagostense-es-desplaca-aquesta-jornada-a-la-pista-del-teia.html
CLASS:PUBLIC
END:VEVENT
END:VCALENDAR
