BEGIN:VCALENDAR
VERSION:2.0
CALSCALE:GREGORIAN
PRODID:-//Diputació de Barcelona//DibaCMS//EN
BEGIN:VEVENT
UID:4833
DTSTAMP:20260423T055726
DTSTART:20120302T000000
DTEND:20130302T000000
SUMMARY:El Mercat Medieval de la Llagosta se celebra aquest cap de setmana al Parc Popular
LOCATION:
METHOD:PUBLISH
X-WR-CALNAME:llagosta@llagosta.cat
X-WR-TIMEZONE:Europe/Madrid
DESCRIPTION:El Parc Popular acollirà aquest cap de setmana un mercat medieval. Una seixantena de parades s'instal·laran en aquest espai fins diumenge. Al Mercat Medieval de la Llagosta es podran trobar plantes medicinals, joguines, bijuteria i roba, entre altres productes. 
URI:https://www.llagosta.cat/actualitat/noticies/el-mercat-medieval-de-la-llagosta-se-celebra-aquest-cap-de-setmana-al-parc-popular.html
CLASS:PUBLIC
END:VEVENT
END:VCALENDAR
