BEGIN:VCALENDAR
VERSION:2.0
CALSCALE:GREGORIAN
PRODID:-//Diputació de Barcelona//DibaCMS//EN
BEGIN:VEVENT
UID:4832
DTSTAMP:20260422T164143
DTSTART:20120302T000000
DTEND:20130302T000000
SUMMARY:La guarderia privada Niu Blau farà demà al migdia jornada de portes obertes
LOCATION:
METHOD:PUBLISH
X-WR-CALNAME:llagosta@llagosta.cat
X-WR-TIMEZONE:Europe/Madrid
DESCRIPTION:L'Escola bressol privada Niu Blau de la Llagosta farà demà una jornada de portes obertes per tal que els pares dels possibles alumnes coneguin les instal·lacions d'aquest centre, situat al carrer de les Escoles. La guarderia obrirà les portes de 12 a 13 hores.
URI:https://www.llagosta.cat/actualitat/noticies/la-guarderia-privada-niu-blau-fara-dema-al-migdia-jornada-de-portes-obertes.html
CLASS:PUBLIC
END:VEVENT
END:VCALENDAR
