BEGIN:VCALENDAR
VERSION:2.0
CALSCALE:GREGORIAN
PRODID:-//Diputació de Barcelona//DibaCMS//EN
BEGIN:VEVENT
UID:4831
DTSTAMP:20260422T130326
DTSTART:20120301T000000
DTEND:20130301T000000
SUMMARY:Ja es poden comprar les entrades per al sopar de dones del proper 9 de març
LOCATION:
METHOD:PUBLISH
X-WR-CALNAME:llagosta@llagosta.cat
X-WR-TIMEZONE:Europe/Madrid
DESCRIPTION:Ja estan en marxa les activitats del programa commemoratiu del Dia Internacional de les Dones 2012. Una de les activitats que es recuperen és el sopar, que es presenta sota el nom de La Nit de les Dones, sopem, parlem, ballem i ens divertim.
L'acte se celebrarà el divendres 9 de març, a partir de les vuit del vespre, al Centre Cultural. 
URI:https://www.llagosta.cat/actualitat/noticies/ja-es-poden-comprar-les-entrades-per-al-sopar-de-dones-del-proper-9-de-marc.html
CLASS:PUBLIC
END:VEVENT
END:VCALENDAR
