BEGIN:VCALENDAR
VERSION:2.0
CALSCALE:GREGORIAN
PRODID:-//Diputació de Barcelona//DibaCMS//EN
BEGIN:VEVENT
UID:4830
DTSTAMP:20260422T235557
DTSTART:20120301T000000
DTEND:20130301T000000
SUMMARY:Juan Antonio Illescas, únic candidat a la presidència de la Casa de Andalucía
LOCATION:
METHOD:PUBLISH
X-WR-CALNAME:llagosta@llagosta.cat
X-WR-TIMEZONE:Europe/Madrid
DESCRIPTION:Juan Antonio Illescas és l'única persona que ha presentat candidatura per presidir la Casa de Andalucía de la Llagosta. La fins ara màxima responsable de l'entitat, Juani Lafuente, va presentar diumenge la seva dimissió per motius personals durant la celebració d'una assemblea general. 
URI:https://www.llagosta.cat/actualitat/noticies/juan-antonio-illescas-unic-candidat-a-la-presidencia-de-la-casa-de-andalucia.html
CLASS:PUBLIC
END:VEVENT
END:VCALENDAR
