BEGIN:VCALENDAR
VERSION:2.0
CALSCALE:GREGORIAN
PRODID:-//Diputació de Barcelona//DibaCMS//EN
BEGIN:VEVENT
UID:4829
DTSTAMP:20260422T012038
DTSTART:20120301T000000
DTEND:20130301T000000
SUMMARY:El sènior masculí A de l'EBC jugarà dissabte a casa contra el Vedruna-Gràcia C
LOCATION:
METHOD:PUBLISH
X-WR-CALNAME:llagosta@llagosta.cat
X-WR-TIMEZONE:Europe/Madrid
DESCRIPTION:El sènior masculí A de l'Esportiu Bàsquet Club de la Llagosta rebrà dissabte la visita del Vedruna-Gràcia C després de descansar el cap de setmana passat. Els dos equips estan situats a la zona baixa de la classificació i lluiten per no perdre la categoria.
URI:https://www.llagosta.cat/actualitat/noticies/el-senior-masculi-a-de-lebc-jugara-dissabte-a-casa-contra-el-vedruna-gracia-c.html
CLASS:PUBLIC
END:VEVENT
END:VCALENDAR
