BEGIN:VCALENDAR
VERSION:2.0
CALSCALE:GREGORIAN
PRODID:-//Diputació de Barcelona//DibaCMS//EN
BEGIN:VEVENT
UID:4828
DTSTAMP:20260422T013123
DTSTART:20120229T000000
DTEND:20130228T000000
SUMMARY:Demà, es convocarà el Concurs de punts de llibre de la Biblioteca de la Llagosta
LOCATION:
METHOD:PUBLISH
X-WR-CALNAME:llagosta@llagosta.cat
X-WR-TIMEZONE:Europe/Madrid
DESCRIPTION:La Biblioteca de la Llagosta convocarà demà el Concurs de punts de llibre 2012, amb motiu de la festa de Sant Jordi. Tots els infants i joves de la nostra localitat podran participar en aquest certamen artístic.
URI:https://www.llagosta.cat/actualitat/noticies/dema-es-convocara-el-concurs-de-punts-de-llibre-de-la-biblioteca-de-la-llagosta.html
CLASS:PUBLIC
END:VEVENT
END:VCALENDAR
