BEGIN:VCALENDAR
VERSION:2.0
CALSCALE:GREGORIAN
PRODID:-//Diputació de Barcelona//DibaCMS//EN
BEGIN:VEVENT
UID:4827
DTSTAMP:20260422T122401
DTSTART:20120229T000000
DTEND:20130220T000000
SUMMARY:El Parc Popular acollirà un mercat medieval durant tot el cap de setmana
LOCATION:
METHOD:PUBLISH
X-WR-CALNAME:llagosta@llagosta.cat
X-WR-TIMEZONE:Europe/Madrid
DESCRIPTION:La Llagosta acollirà a partir de divendres a la tarda un mercat medieval. Fins diumenge al vespre, una seixantena de parades ocuparan el Parc Popular de la nostra localitat.
URI:https://www.llagosta.cat/actualitat/noticies/el-parc-popular-acollira-un-mercat-medieval-durant-tot-el-cap-de-setmana.html
CLASS:PUBLIC
END:VEVENT
END:VCALENDAR
